BEGIN:VCALENDAR
VERSION:2.0
PRODID:-//EV Equity Program - ECPv6.15.20//NONSGML v1.0//EN
CALSCALE:GREGORIAN
METHOD:PUBLISH
X-ORIGINAL-URL:https://evequity.org
X-WR-CALDESC:Events for EV Equity Program
REFRESH-INTERVAL;VALUE=DURATION:PT1H
X-Robots-Tag:noindex
X-PUBLISHED-TTL:PT1H
BEGIN:VTIMEZONE
TZID:America/Los_Angeles
BEGIN:DAYLIGHT
TZOFFSETFROM:-0800
TZOFFSETTO:-0700
TZNAME:PDT
DTSTART:20200308T100000
END:DAYLIGHT
BEGIN:STANDARD
TZOFFSETFROM:-0700
TZOFFSETTO:-0800
TZNAME:PST
DTSTART:20201101T090000
END:STANDARD
BEGIN:DAYLIGHT
TZOFFSETFROM:-0800
TZOFFSETTO:-0700
TZNAME:PDT
DTSTART:20210314T100000
END:DAYLIGHT
BEGIN:STANDARD
TZOFFSETFROM:-0700
TZOFFSETTO:-0800
TZNAME:PST
DTSTART:20211107T090000
END:STANDARD
BEGIN:DAYLIGHT
TZOFFSETFROM:-0800
TZOFFSETTO:-0700
TZNAME:PDT
DTSTART:20220313T100000
END:DAYLIGHT
BEGIN:STANDARD
TZOFFSETFROM:-0700
TZOFFSETTO:-0800
TZNAME:PST
DTSTART:20221106T090000
END:STANDARD
BEGIN:DAYLIGHT
TZOFFSETFROM:-0800
TZOFFSETTO:-0700
TZNAME:PDT
DTSTART:20230312T100000
END:DAYLIGHT
BEGIN:STANDARD
TZOFFSETFROM:-0700
TZOFFSETTO:-0800
TZNAME:PST
DTSTART:20231105T090000
END:STANDARD
BEGIN:DAYLIGHT
TZOFFSETFROM:-0800
TZOFFSETTO:-0700
TZNAME:PDT
DTSTART:20240310T100000
END:DAYLIGHT
BEGIN:STANDARD
TZOFFSETFROM:-0700
TZOFFSETTO:-0800
TZNAME:PST
DTSTART:20241103T090000
END:STANDARD
BEGIN:DAYLIGHT
TZOFFSETFROM:-0800
TZOFFSETTO:-0700
TZNAME:PDT
DTSTART:20250309T100000
END:DAYLIGHT
BEGIN:STANDARD
TZOFFSETFROM:-0700
TZOFFSETTO:-0800
TZNAME:PST
DTSTART:20251102T090000
END:STANDARD
BEGIN:DAYLIGHT
TZOFFSETFROM:-0800
TZOFFSETTO:-0700
TZNAME:PDT
DTSTART:20260308T100000
END:DAYLIGHT
BEGIN:STANDARD
TZOFFSETFROM:-0700
TZOFFSETTO:-0800
TZNAME:PST
DTSTART:20261101T090000
END:STANDARD
END:VTIMEZONE
BEGIN:VEVENT
DTSTART;TZID=America/Los_Angeles:20250927T090000
DTEND;TZID=America/Los_Angeles:20250927T130000
DTSTAMP:20260419T112907
CREATED:20250905T231534Z
LAST-MODIFIED:20250905T231534Z
UID:240695-1758963600-1758978000@evequity.org
SUMMARY:Valley Voices Pasea & Conduce  Evento de Asistencia Para La Solicitud
DESCRIPTION:Acompáñenos a un evento familiar. Infórmese sobre las opciones de vehiculos eléctricos\, hibridos y de pila de combustible\, y solicite asistencia financiera y reembolsos para compradores calificados. Habrá comida a la venta. Organizaciones comunitarias ofrecerán recursos gratuitos y un área de juegos infantiles junto al evento. Este evento es GRATUITO y abierto al público. Los conductores recibirán un boleto para tacos gratis. Los familiares directos recibirán un dulce gratis.
URL:https://evequity.org/event/valley-voices-pasea-conduce-evento-de-asistencia-para-la-solicitud/
LOCATION:Lincoln Plaza Apartments\, 804 S. Harris Street\,\, Hanford\, CA\, 93230\, United States
CATEGORIES:Application Assistance Clinic,Ride and Drive
ATTACH;FMTTYPE=image/jpeg:https://evequity.org/wp-content/uploads/2025/09/Spanish-Valley-Voices-RD.jpg
END:VEVENT
BEGIN:VEVENT
DTSTART;TZID=America/Los_Angeles:20250927T090000
DTEND;TZID=America/Los_Angeles:20250927T130000
DTSTAMP:20260419T112907
CREATED:20250905T230600Z
LAST-MODIFIED:20250905T231607Z
UID:240690-1758963600-1758978000@evequity.org
SUMMARY:Valley Voices Ride & Drive and Application Clinic
DESCRIPTION:Join us for a family-friendly event. Learn about your electric\, hybrid and fuel cell vehicle options and apply for financial assistance and rebates for qualified buyers. Vendors will have food for sale. Community organizations will table with free resources and a children’s playground is adjacent to the event site. This event is FREE and open to the public. Drivers get a ticket for free tacos. Immediate family members receive a free sweet treat.
URL:https://evequity.org/event/valley-voices-ride-drive-and-application-clinic/
LOCATION:Lincoln Plaza Apartments\, 804 S. Harris Street\,\, Hanford\, CA\, 93230\, United States
CATEGORIES:Application Assistance Clinic,Ride and Drive
ATTACH;FMTTYPE=image/png:https://evequity.org/wp-content/uploads/2025/09/Valley-Voices-RideDriveEnglish-2.png
END:VEVENT
BEGIN:VEVENT
DTSTART;TZID=America/Los_Angeles:20250918T150000
DTEND;TZID=America/Los_Angeles:20250918T190000
DTSTAMP:20260419T112907
CREATED:20250809T175508Z
LAST-MODIFIED:20250809T175508Z
UID:240684-1758207600-1758222000@evequity.org
SUMMARY:Valley Onward Ride and Drive
DESCRIPTION:Experience the future of clean transportation with free electric vehicle test drives\, food\, raffles\, games\, and more! \nFirst 200 guests receive FREE food!
URL:https://evequity.org/event/valley-onward-ride-and-drive/
LOCATION:Merced County Fairgrounds\, 100 W 11th Street\, Merced\, CA\, 95341\, United States
CATEGORIES:Ride and Drive
ATTACH;FMTTYPE=image/png:https://evequity.org/wp-content/uploads/2025/08/VO-RIDE-DRIVE-1.png
END:VEVENT
BEGIN:VEVENT
DTSTART;TZID=America/Los_Angeles:20250727T100000
DTEND;TZID=America/Los_Angeles:20250727T140000
DTSTAMP:20260419T112907
CREATED:20250715T223233Z
LAST-MODIFIED:20250715T223233Z
UID:240678-1753610400-1753624800@evequity.org
SUMMARY:PASEO Y CONDUCCION EVENTO DE AYUDA A LA SOLICITUD
DESCRIPTION:Este evento ayudara a las personas con bajos ingresos y a los miembros de comunidades desfavorecidas a cambiar a vehículos de aire limpio. \nConduzca vehículos de aire limpio\, obtenga ayuda práctica con su solicitud del Driving Clean Assistance Program. Los primeros 50 participantes que completen un Ride & Drive o una solicitud con la ayuda del personal recibirán un CUPÓN DE COMIDA GRATIS – ¡bueno para un burrito o 4 tacos! Envíe la encuesta después del evento y participe en el sorteo de una tarjeta regalo Visa de $200.
URL:https://evequity.org/event/paseo-y-conduccion-evento-de-ayuda-a-la-solicitud/
LOCATION:Modesto Centre Plaza\, 1000 L St.\, Modesto\, CA\, 95354\, United States
CATEGORIES:Application Assistance Clinic,Ride and Drive
ATTACH;FMTTYPE=application/pdf:https://evequity.org/wp-content/uploads/2025/07/VIP-RideDrive-SPANISH.pdf
END:VEVENT
BEGIN:VEVENT
DTSTART;TZID=America/Los_Angeles:20250727T100000
DTEND;TZID=America/Los_Angeles:20250727T140000
DTSTAMP:20260419T112907
CREATED:20250715T222726Z
LAST-MODIFIED:20250715T224355Z
UID:240673-1753610400-1753624800@evequity.org
SUMMARY:RIDE AND DRIVE AND APPLICATION ASSISTANCE EVENT
DESCRIPTION:This event supports low-income and members of disadvantaged communities in making the switch to clean air vehicles. \n\Test drive clean air vehicles\, get hands-on help with your Driving Clean Assistance Program application. The first 50 participants who complete either a Ride & Drive or an application with staff support will receive a FREE MEAL TICKET — good for a burrito or 4 tacos!\nSubmit the post-event survey and be entered for a chance to win a $200 Visa gift card. \nSpeed up the application process and access the checklist of documents you will need by visiting: evequity.org/getstarted
URL:https://evequity.org/event/ride-and-drive-and-application-assistance-event/
LOCATION:Modesto Centre Plaza\, 1000 L St.\, Modesto\, CA\, 95354\, United States
CATEGORIES:Application Assistance Clinic,Ride and Drive
ATTACH;FMTTYPE=application/pdf:https://evequity.org/wp-content/uploads/2025/07/VIP-RIDE-DRIVE-4.pdf
ORGANIZER;CN="Valley Improvement Project":MAILTO:valleyimprovementprojects@gmail.com
END:VEVENT
BEGIN:VEVENT
DTSTART;TZID=America/Los_Angeles:20211204T100000
DTEND;TZID=America/Los_Angeles:20211204T140000
DTSTAMP:20260419T112907
CREATED:20211119T174144Z
LAST-MODIFIED:20211119T175402Z
UID:3483-1638612000-1638626400@evequity.org
SUMMARY:One EV Ride and Drive Event
DESCRIPTION:Join the Clean Vehicle Empowerment Collaborative at our family friendly event as we show you how going electric can be exciting! We will have food vendors\, resource booths\, music\, and lots of fun. Best of all\, you’ll have the opportunity to test drive a new electric vehicle without the pressures of having to buy when test driving a vehicle at the dealership. \nRegister for this FREE event here
URL:https://evequity.org/event/one-ev-ride-and-drive-event/
LOCATION:EV Equity Program\, 4991 E. McKinley Ave\, Fresno\, CA\, 93727\, United States
CATEGORIES:Ride and Drive
ATTACH;FMTTYPE=image/png:https://evequity.org/wp-content/uploads/2021/11/One-EV-Ride-and-Drive-Event.png
END:VEVENT
END:VCALENDAR