BEGIN:VCALENDAR
VERSION:2.0
PRODID:-//EV Equity Program - ECPv6.15.20//NONSGML v1.0//EN
CALSCALE:GREGORIAN
METHOD:PUBLISH
X-ORIGINAL-URL:https://evequity.org
X-WR-CALDESC:Events for EV Equity Program
REFRESH-INTERVAL;VALUE=DURATION:PT1H
X-Robots-Tag:noindex
X-PUBLISHED-TTL:PT1H
BEGIN:VTIMEZONE
TZID:America/Los_Angeles
BEGIN:DAYLIGHT
TZOFFSETFROM:-0800
TZOFFSETTO:-0700
TZNAME:PDT
DTSTART:20220313T100000
END:DAYLIGHT
BEGIN:STANDARD
TZOFFSETFROM:-0700
TZOFFSETTO:-0800
TZNAME:PST
DTSTART:20221106T090000
END:STANDARD
BEGIN:DAYLIGHT
TZOFFSETFROM:-0800
TZOFFSETTO:-0700
TZNAME:PDT
DTSTART:20230312T100000
END:DAYLIGHT
BEGIN:STANDARD
TZOFFSETFROM:-0700
TZOFFSETTO:-0800
TZNAME:PST
DTSTART:20231105T090000
END:STANDARD
BEGIN:DAYLIGHT
TZOFFSETFROM:-0800
TZOFFSETTO:-0700
TZNAME:PDT
DTSTART:20240310T100000
END:DAYLIGHT
BEGIN:STANDARD
TZOFFSETFROM:-0700
TZOFFSETTO:-0800
TZNAME:PST
DTSTART:20241103T090000
END:STANDARD
END:VTIMEZONE
BEGIN:VEVENT
DTSTART;TZID=America/Los_Angeles:20230131T150000
DTEND;TZID=America/Los_Angeles:20230131T160000
DTSTAMP:20260424T180554
CREATED:20230118T001016Z
LAST-MODIFIED:20230127T233443Z
UID:237754-1675177200-1675180800@evequity.org
SUMMARY:English - EV Equity Program Educational Workshop
DESCRIPTION:The San Joaquin Valley has some of the worst air quality in the United States. Making the switch to an electric vehicle reduces transportation emissions\, the largest source of air pollution in the San Joaquin Valley. It will also reduce greenhouse gas emissions related to climate change. In addition to the environmental benefits\, electric vehicles are less expensive to operate than gas-powered vehicles and offer the convenience of “filling up” at home and not requiring oil changes or other typical engine services. They’re also a lot of fun to drive! \nJoin us virtually in this webinar where we will talk about electric vehicles\, EV charging options\, EV operating costs\, EV purchase incentives\, and how the EV Equity Program can help get you prepared to purchase your new EV. \nClick here to register for our free online workshop!
URL:https://evequity.org/event/ev-equity-program-educational-workshop-18/
ATTACH;FMTTYPE=image/png:https://evequity.org/wp-content/uploads/2023/01/Workshop-Featured-Image.png
END:VEVENT
END:VCALENDAR