BEGIN:VCALENDAR
VERSION:2.0
PRODID:-//EV Equity Program - ECPv6.15.20//NONSGML v1.0//EN
CALSCALE:GREGORIAN
METHOD:PUBLISH
X-WR-CALNAME:EV Equity Program
X-ORIGINAL-URL:https://evequity.org
X-WR-CALDESC:Events for EV Equity Program
REFRESH-INTERVAL;VALUE=DURATION:PT1H
X-Robots-Tag:noindex
X-PUBLISHED-TTL:PT1H
BEGIN:VTIMEZONE
TZID:America/Los_Angeles
BEGIN:DAYLIGHT
TZOFFSETFROM:-0800
TZOFFSETTO:-0700
TZNAME:PDT
DTSTART:20240310T100000
END:DAYLIGHT
BEGIN:STANDARD
TZOFFSETFROM:-0700
TZOFFSETTO:-0800
TZNAME:PST
DTSTART:20241103T090000
END:STANDARD
BEGIN:DAYLIGHT
TZOFFSETFROM:-0800
TZOFFSETTO:-0700
TZNAME:PDT
DTSTART:20250309T100000
END:DAYLIGHT
BEGIN:STANDARD
TZOFFSETFROM:-0700
TZOFFSETTO:-0800
TZNAME:PST
DTSTART:20251102T090000
END:STANDARD
BEGIN:DAYLIGHT
TZOFFSETFROM:-0800
TZOFFSETTO:-0700
TZNAME:PDT
DTSTART:20260308T100000
END:DAYLIGHT
BEGIN:STANDARD
TZOFFSETFROM:-0700
TZOFFSETTO:-0800
TZNAME:PST
DTSTART:20261101T090000
END:STANDARD
END:VTIMEZONE
BEGIN:VEVENT
DTSTART;TZID=America/Los_Angeles:20250426T100000
DTEND;TZID=America/Los_Angeles:20250426T140000
DTSTAMP:20260421T084756
CREATED:20250409T204606Z
LAST-MODIFIED:20250409T204606Z
UID:240630-1745661600-1745676000@evequity.org
SUMMARY:Party for the Planet
DESCRIPTION:Celebrate California’s amazing biodiversity and learn about wildlife conservation at Fresno Chaffee Zoo’s Party for the Planet™. The festivities will feature Coexist with Wildlife California educational activities\, community resources\, food trucks\, and entertainment. From planting pollinator gardens to minimizing our impact by leaving no trace\, we can all learn to do our part to ensure our unique ecosystems thrive for generations.
URL:https://evequity.org/event/party-for-the-planet/
LOCATION:Fresno Chaffee Zoo\, 894 W Belmont Ave\, Fresno\, 93728\, United States
ATTACH;FMTTYPE=image/jpeg:https://evequity.org/wp-content/uploads/2025/04/party-for-the-planet-.jpg
END:VEVENT
END:VCALENDAR