BEGIN:VCALENDAR
VERSION:2.0
PRODID:-//EV Equity Program - ECPv6.15.20//NONSGML v1.0//EN
CALSCALE:GREGORIAN
METHOD:PUBLISH
X-WR-CALNAME:EV Equity Program
X-ORIGINAL-URL:https://evequity.org
X-WR-CALDESC:Events for EV Equity Program
REFRESH-INTERVAL;VALUE=DURATION:PT1H
X-Robots-Tag:noindex
X-PUBLISHED-TTL:PT1H
BEGIN:VTIMEZONE
TZID:America/Los_Angeles
BEGIN:DAYLIGHT
TZOFFSETFROM:-0800
TZOFFSETTO:-0700
TZNAME:PDT
DTSTART:20240310T100000
END:DAYLIGHT
BEGIN:STANDARD
TZOFFSETFROM:-0700
TZOFFSETTO:-0800
TZNAME:PST
DTSTART:20241103T090000
END:STANDARD
BEGIN:DAYLIGHT
TZOFFSETFROM:-0800
TZOFFSETTO:-0700
TZNAME:PDT
DTSTART:20250309T100000
END:DAYLIGHT
BEGIN:STANDARD
TZOFFSETFROM:-0700
TZOFFSETTO:-0800
TZNAME:PST
DTSTART:20251102T090000
END:STANDARD
BEGIN:DAYLIGHT
TZOFFSETFROM:-0800
TZOFFSETTO:-0700
TZNAME:PDT
DTSTART:20260308T100000
END:DAYLIGHT
BEGIN:STANDARD
TZOFFSETFROM:-0700
TZOFFSETTO:-0800
TZNAME:PST
DTSTART:20261101T090000
END:STANDARD
END:VTIMEZONE
BEGIN:VEVENT
DTSTART;TZID=America/Los_Angeles:20250727T100000
DTEND;TZID=America/Los_Angeles:20250727T140000
DTSTAMP:20260420T041334
CREATED:20250715T223233Z
LAST-MODIFIED:20250715T223233Z
UID:240678-1753610400-1753624800@evequity.org
SUMMARY:PASEO Y CONDUCCION EVENTO DE AYUDA A LA SOLICITUD
DESCRIPTION:Este evento ayudara a las personas con bajos ingresos y a los miembros de comunidades desfavorecidas a cambiar a vehículos de aire limpio. \nConduzca vehículos de aire limpio\, obtenga ayuda práctica con su solicitud del Driving Clean Assistance Program. Los primeros 50 participantes que completen un Ride & Drive o una solicitud con la ayuda del personal recibirán un CUPÓN DE COMIDA GRATIS – ¡bueno para un burrito o 4 tacos! Envíe la encuesta después del evento y participe en el sorteo de una tarjeta regalo Visa de $200.
URL:https://evequity.org/event/paseo-y-conduccion-evento-de-ayuda-a-la-solicitud/
LOCATION:Modesto Centre Plaza\, 1000 L St.\, Modesto\, CA\, 95354\, United States
CATEGORIES:Application Assistance Clinic,Ride and Drive
ATTACH;FMTTYPE=application/pdf:https://evequity.org/wp-content/uploads/2025/07/VIP-RideDrive-SPANISH.pdf
END:VEVENT
END:VCALENDAR